BEGIN:VCALENDAR
PRODID:-//SIMsKultur.net//iCal Class MIMEDIR//EN
VERSION:2.0
METHOD:PUBLISH
BEGIN:VEVENT
DTSTART:20260722T180000Z
DTEND:20260722T190000Z
LOCATION;LANGUAGE=de:Schloßberg 9, 8010 Graz
TRANSP:OPAQUE
SEQUENCE:0
UID:4fe8e4dad5c61ec94ee1a36ef2c032e9
DTSTAMP:20260422T054500Z
DESCRIPTION;LANGUAGE=de:White Lies: Having released their much loved & lauded debut, To Lose My Life… in 2009, White Lies have arguably become one of the biggest guitar bands in the UK - the last two album tours saw them sell out multiple Brixton Academy shows and the Hammersmith Apollo in London – and the past decade has also seen the band establish themselves globally with sold out tours in Europe and beyond, including a sold-out show at Mexico City’s 10,000 capacity Pepsi Center in 2023.

Kasematten
Schloßberg 9, 8010 Graz
i: www.spielstaetten.at
t: +43 316 8008-9000
e: grazer@spielstaetten.at

Ein Service von Kultur.net. http://www.simskultur.net
SUMMARY;LANGUAGE=de:White Lies
PRIORITY:5
CLASS:PUBLIC
URL:https://kultur.net/kasematten/programm/white-lies
STATUS:CONFIRMED
END:VEVENT
END:VCALENDAR
