BEGIN:VCALENDAR
PRODID:-//SIMsKultur.net//iCal Class MIMEDIR//EN
VERSION:2.0
METHOD:PUBLISH
BEGIN:VEVENT
DTSTART:20260620T180000Z
DTEND:20260620T190000Z
LOCATION;LANGUAGE=de:Schloßberg 9, 8010 Graz
TRANSP:OPAQUE
SEQUENCE:0
UID:ac07703c086520bf3eb4d8f240f5e51c
DTSTAMP:20260422T014700Z
DESCRIPTION;LANGUAGE=de:Nazareth: Der Sound der 70er kehrt zurück! Mit über 30 Millionen verkauften Tonträgern und unvergesslichen Klassikern wie Love Hurts zählt Nazareth zweifellos zu den größten Rockbands der Musikgeschichte. Seit ihrer Gründung im Jahr 1968 haben die schottischen Hard-&-Heavy-Pioniere ihren Platz an der Seite von Legenden wie Led Zeppelin, Deep Purple, Uriah Heep und Black Sabbath gefestigt – und damit ein ganzes Genre geprägt.

Kasematten
Schloßberg 9, 8010 Graz
i: www.spielstaetten.at
t: +43 316 8008-9000
e: grazer@spielstaetten.at

Ein Service von Kultur.net. http://www.simskultur.net
SUMMARY;LANGUAGE=de:Nazareth
PRIORITY:5
CLASS:PUBLIC
URL:https://kultur.net/kasematten/programm/nazareth
STATUS:CONFIRMED
END:VEVENT
END:VCALENDAR
