BEGIN:VCALENDAR
PRODID:-//SIMsKultur.net//iCal Class MIMEDIR//EN
VERSION:2.0
METHOD:PUBLISH
BEGIN:VEVENT
DTSTART:20260619T170000Z
DTEND:20260619T180000Z
LOCATION;LANGUAGE=de:Schloßberg 9, 8010 Graz
TRANSP:OPAQUE
SEQUENCE:0
UID:b806e3e2a1a150690b9c022497f53bd1
DTSTAMP:20260420T053900Z
DESCRIPTION;LANGUAGE=de:Gert Steinbäcker: Gert Steinbäcker – das erste „S“ von STS kehrt zurück auf die Bühne – mit dabei: „Tagtraeumer“! Gert Steinbäcker ist eine der prägenden Stimmen der österreichischen Musikgeschichte. Als Liedermacher, Musiker und Sänger erzählt er echte Geschichten, die seine Musik zeitlos und berührend machen.

Kasematten
Schloßberg 9, 8010 Graz
i: www.spielstaetten.at
t: +43 316 8008-9000
e: grazer@spielstaetten.at

Ein Service von Kultur.net. http://www.simskultur.net
SUMMARY;LANGUAGE=de:Gert Steinbäcker
PRIORITY:5
CLASS:PUBLIC
URL:https://kultur.net/kasematten/programm/gert-steinbaecker
STATUS:CONFIRMED
END:VEVENT
END:VCALENDAR
