BEGIN:VCALENDAR
PRODID:-//SIMsKultur.net//iCal Class MIMEDIR//EN
VERSION:2.0
METHOD:PUBLISH
BEGIN:VEVENT
DTSTART:20260516T180000Z
DTEND:20260516T190000Z
LOCATION;LANGUAGE=de:Schloßberg 9, 8010 Graz
TRANSP:OPAQUE
SEQUENCE:0
UID:4a9109991996ca90bcd76fdecedababc
DTSTAMP:20260424T135000Z
DESCRIPTION;LANGUAGE=de:Edmund: Endlich wieder richtiger Austropop – das hört man oft, wenn über das Duo Edmund aus dem Wienerwald gesprochen wird. Roman Messner und Markus Kadensky schreiben wunderschöne zweistimmige Mundartsongs aus dem Bauch heraus, vereinen darin das Beste des alten Austropop mit aktuellem Songwriting und treffen damit gemischt mit einer guten Portion Rock voll ins Schwarze.

Kasematten
Schloßberg 9, 8010 Graz
i: www.spielstaetten.at
t: +43 316 8008-9000
e: grazer@spielstaetten.at

Ein Service von Kultur.net. http://www.simskultur.net
SUMMARY;LANGUAGE=de:Edmund
PRIORITY:5
CLASS:PUBLIC
URL:https://kultur.net/kasematten/programm/edmund
STATUS:CONFIRMED
END:VEVENT
END:VCALENDAR
