BEGIN:VCALENDAR
PRODID:-//SIMsKultur.net//iCal Class MIMEDIR//EN
VERSION:2.0
METHOD:PUBLISH
BEGIN:VEVENT
DTSTART:20260515T180000Z
DTEND:20260515T190000Z
LOCATION;LANGUAGE=de:Schloßberg 9, 8010 Graz
TRANSP:OPAQUE
SEQUENCE:0
UID:a2c234e2e09927e8ecee89f4e9e657de
DTSTAMP:20260422T023200Z
DESCRIPTION;LANGUAGE=de:Herbert Pixner Projekt: Er wird als Jimi Hendrix der Volksmusik bezeichnet oder als Frank Zappa der Alpen. Man vergleicht ihn mit Piazzola und Paganini und dennoch hat der gebürtige Südtiroler Musiker über die Jahre einen völlig unverwechselbaren Musikstil kreiert und weiterentwickelt. Die Rede ist von Herbert Pixner, seinezeichens Multiinstrumentalist, Komponist, Produzent und Namensgeber des Herbert Pixner Projekts.

Kasematten
Schloßberg 9, 8010 Graz
i: www.spielstaetten.at
t: +43 316 8008-9000
e: grazer@spielstaetten.at

Ein Service von Kultur.net. http://www.simskultur.net
SUMMARY;LANGUAGE=de:Herbert Pixner Projekt
PRIORITY:5
CLASS:PUBLIC
URL:https://kultur.net/kasematten/programm/herbert-pixner-projekt-0
STATUS:CONFIRMED
END:VEVENT
END:VCALENDAR
