BEGIN:VCALENDAR
PRODID:-//SIMsKultur.net//iCal Class MIMEDIR//EN
VERSION:2.0
METHOD:PUBLISH
BEGIN:VEVENT
DTSTART:20260611T220000Z
LOCATION;LANGUAGE=de:Berggasse 19, 1090 Wien
TRANSP:OPAQUE
SEQUENCE:0
UID:72974e66f187c7c2fd2742d171669b07
DTSTAMP:20260419T200000Z
DESCRIPTION;LANGUAGE=de:HEIMAT SUCHEN | HEIMAT FINDEN  - Eine Tagungsreise zu Freuds Geburtsort in Příbor: Das Siegmund Freud Museum feiert 170 Jahre Sigmund Freud und nimmt Sie mit auf eine Reise zu seinem Geburtsort in Příbor (Tschechien). Schon am 12. Juni startet in Wien mit einer exklusiven Abendführung durch das Sigmund Freud Museum, wo Freud 47 Jahre lang lebte und arbeitete.

Sigmund Freud Museum
Berggasse 19, 1090 Wien
i: https://www.freud-museum.at/de/
t: +43 1 3191596
e: office@freud-museum.at

Ein Service von Kultur.net. http://www.simskultur.net
SUMMARY;LANGUAGE=de:HEIMAT SUCHEN | HEIMAT FINDEN  - Eine Tagungsreise zu Freuds Geburtsort in Příbor
PRIORITY:5
CLASS:PUBLIC
URL:https://kultur.net/sigmund-freud-museum/programm/heimat-suchen-heimat-finden-eine-tagungsreise-zu-freuds-geburtsort-in-
STATUS:CONFIRMED
END:VEVENT
END:VCALENDAR
