BEGIN:VCALENDAR
PRODID:-//SIMsKultur.net//iCal Class MIMEDIR//EN
VERSION:2.0
METHOD:PUBLISH
BEGIN:VEVENT
DTSTART:20260709T220000Z
LOCATION;LANGUAGE=de:Rennweg 6, 1030 Wien
TRANSP:OPAQUE
SEQUENCE:0
UID:ca750f391998da3eb7cf7dd5c0cd3ce4
DTSTAMP:20260424T183900Z
DESCRIPTION;LANGUAGE=de:Anni Albers - Constructing Textiles: Die Ausstellung Anni Albers. Constructing Textiles stellt das Werk der bedeutenden deutsch-amerikanischen Künstlerin und Designerin erstmals umfassend in Österreich vor. Von den Anfängen am Bauhaus über ihre einflussreiche Tätigkeit am Black Mountain College bis hin zur theoretischen Auseinandersetzung wird Albers’ facettenreiches Schaffen zwischen Kunst und Design, Handwerk, Lehre und Theorieproduktion beleuchtet.

Unteres Belvedere
Rennweg 6, 1030 Wien
i: www.belvedere.at
t: +43 1 795570
e: info@belvedere.at

Ein Service von Kultur.net. http://www.simskultur.net
SUMMARY;LANGUAGE=de:Anni Albers - Constructing Textiles
PRIORITY:5
CLASS:PUBLIC
URL:https://kultur.net/unteres-belvedere/programm/anni-albers-constructing-textiles
STATUS:CONFIRMED
END:VEVENT
END:VCALENDAR
