BEGIN:VCALENDAR
PRODID:-//SIMsKultur.net//iCal Class MIMEDIR//EN
VERSION:2.0
METHOD:PUBLISH
BEGIN:VEVENT
DTSTART:20260630T220000Z
LOCATION;LANGUAGE=de:Prinz Eugen-Straße 27, 1030 Wien
TRANSP:OPAQUE
SEQUENCE:0
UID:a8a4c5be95ca03e5e3726f34a637d130
DTSTAMP:20260425T114900Z
DESCRIPTION;LANGUAGE=de:IM BLICK: Johann Baptist Lampi der Ältere und der Jüngere: Was haben ein klassizistisches Familienporträt und eine mythologische Darstellung der Venus aus der Biedermeierzeit gemeinsam? Sowohl das Bildnis der Caroline und des Viktor von Tomatis von Johann Baptist Lampi d. Ä. (1751 Romeno – 1830 Wien) als auch das Gemälde Venus, auf einem Ruhebett schlafend seines Sohnes Johann Baptist Lampi d. J. (1775 Trient – 1837 Wien) wurden übermalt.

Oberes Belvedere
Prinz Eugen-Straße 27, 1030 Wien
i: https://www.belvedere.at/
t: +43 1 795570
e: info@belvedere.at

Ein Service von Kultur.net. http://www.simskultur.net
SUMMARY;LANGUAGE=de:IM BLICK: Johann Baptist Lampi der Ältere und der Jüngere
PRIORITY:5
CLASS:PUBLIC
URL:https://kultur.net/oberes-belvedere/programm/im-blick-johann-baptist-lampi-der-aeltere-und-der-juengere
STATUS:CONFIRMED
END:VEVENT
END:VCALENDAR
