BEGIN:VCALENDAR
PRODID:-//SIMsKultur.net//iCal Class MIMEDIR//EN
VERSION:2.0
METHOD:PUBLISH
BEGIN:VEVENT
DTSTART:20260426T220000Z
LOCATION;LANGUAGE=de:Prinz Eugen-Straße 27, 1030 Wien
TRANSP:OPAQUE
SEQUENCE:0
UID:9c8f10cf3a7c98a9850a43b0a82bd843
DTSTAMP:20260425T212400Z
DESCRIPTION;LANGUAGE=de:CARLONE CONTEMPORARY: herman de vries: Natur ist Kunst – diesem Credo folgt der niederländische Künstler herman de vries seit mehr als fünfzig Jahren. Der ausgebildete Botaniker und Landschaftsgärtner wandte sich schon früh der Kunst zu und erlangte als informeller Maler und Mitglied der Künstler*innengruppe nul Bekanntheit.

Oberes Belvedere
Prinz Eugen-Straße 27, 1030 Wien
i: https://www.belvedere.at/
t: +43 1 795570
e: info@belvedere.at

Ein Service von Kultur.net. http://www.simskultur.net
SUMMARY;LANGUAGE=de:CARLONE CONTEMPORARY: herman de vries
PRIORITY:5
CLASS:PUBLIC
URL:https://kultur.net/oberes-belvedere/programm/carlone-contemporary-herman-de-vries
STATUS:CONFIRMED
END:VEVENT
END:VCALENDAR
