BEGIN:VCALENDAR
PRODID:-//SIMsKultur.net//iCal Class MIMEDIR//EN
VERSION:2.0
METHOD:PUBLISH
BEGIN:VEVENT
DTSTART:20260429T220000Z
LOCATION;LANGUAGE=de:Prinz Eugen-Straße 27, 1030 Wien
TRANSP:OPAQUE
SEQUENCE:0
UID:34abdf8e7673f2b19eaaa96d6458fa8e
DTSTAMP:20260422T111000Z
DESCRIPTION;LANGUAGE=de:Schau! - Die Sammlung Belvedere von Cranach bis Lassnig: Künstler*innen in ihrer Zeit: Wie prägt eine Epoche ihre Kunst? Wie reagieren Künstler*innen auf Umbrüche und Krisen und sind dabei selbst Teil gesellschaftlicher Entwicklungen? Über eine rein kunsthistorische Stilgeschichte hinausgehend, widmet sich die Sammlungspräsentation den Wechselwirkungen zwischen Kunst und Gesellschaft.

Oberes Belvedere
Prinz Eugen-Straße 27, 1030 Wien
i: https://www.belvedere.at/
t: +43 1 795570
e: info@belvedere.at

Ein Service von Kultur.net. http://www.simskultur.net
SUMMARY;LANGUAGE=de:Schau! - Die Sammlung Belvedere von Cranach bis Lassnig
PRIORITY:5
CLASS:PUBLIC
URL:https://kultur.net/oberes-belvedere/programm/schau-die-sammlung-belvedere-von-cranach-bis-lassnig
STATUS:CONFIRMED
END:VEVENT
END:VCALENDAR
