BEGIN:VCALENDAR
PRODID:-//SIMsKultur.net//iCal Class MIMEDIR//EN
VERSION:2.0
METHOD:PUBLISH
BEGIN:VEVENT
DTSTART:20260726T163000Z
DTEND:20260726T173000Z
LOCATION;LANGUAGE=de:Babenbergergasse 5, 2340 Mödling
TRANSP:OPAQUE
SEQUENCE:0
UID:0c17a944fa38de62c9451b8a27598f70
DTSTAMP:20260422T172000Z
DESCRIPTION;LANGUAGE=de:Renzo & Lucia: Welturaufführung - Das Musical handelt von zwei jungen Leuten, Renzo und Lucia, die in einem Dorf bei Lecco am Comer See leben und heiraten wollen, aber von dem örtlichen Feudalherrn Don Rodrigo, der sein Auge auf Lucia geworfen hat, daran gehindert und verfolgt werden, weshalb sie aus ihrem Dorf fliehen müssen. Ab da entspinnen sich viele spannende und emotionale Abenteuer, die an dem Roman Les Miserables erinnern.

Stadttheater Mödling
Babenbergergasse 5, 2340 Mödling
i: www.stadttheatermoedling.at
t: +43 1 5442070
e: tzf@gmx.net

Ein Service von Kultur.net. http://www.simskultur.net
SUMMARY;LANGUAGE=de:Renzo & Lucia
PRIORITY:5
CLASS:PUBLIC
URL:https://kultur.net/stadttheater-moedling/programm/renzo-lucia
STATUS:CONFIRMED
END:VEVENT
END:VCALENDAR
