BEGIN:VCALENDAR
PRODID:-//SIMsKultur.net//iCal Class MIMEDIR//EN
VERSION:2.0
METHOD:PUBLISH
BEGIN:VEVENT
DTSTART:20260711T163000Z
DTEND:20260711T173000Z
LOCATION;LANGUAGE=de:Babenbergergasse 5, 2340 Mödling
TRANSP:OPAQUE
SEQUENCE:0
UID:543c60ec1749239a164d50d02ec51ddd
DTSTAMP:20260424T214400Z
DESCRIPTION;LANGUAGE=de:Der Kleine Prinz: Die berühmte Geschichte nach der Vorlage von Antoine de Saint Exupery in einer völlig neuen Bearbeitung. 

Stadttheater Mödling
Babenbergergasse 5, 2340 Mödling
i: www.stadttheatermoedling.at
t: +43 1 5442070
e: tzf@gmx.net

Ein Service von Kultur.net. http://www.simskultur.net
SUMMARY;LANGUAGE=de:Der Kleine Prinz
PRIORITY:5
CLASS:PUBLIC
URL:https://kultur.net/stadttheater-moedling/programm/der-kleine-prinz
STATUS:CONFIRMED
END:VEVENT
END:VCALENDAR
