BEGIN:VCALENDAR
PRODID:-//SIMsKultur.net//iCal Class MIMEDIR//EN
VERSION:2.0
METHOD:PUBLISH
BEGIN:VEVENT
DTSTART:20260929T140000Z
DTEND:20260929T150000Z
LOCATION;LANGUAGE=de:Hafenstraße 33, 4020 Linz
TRANSP:OPAQUE
SEQUENCE:0
UID:8389ed895222c8fd0608cef28c3aee8a
DTSTAMP:20260422T094300Z
DESCRIPTION;LANGUAGE=de:In der Galerie - Antons Kidsclub 6+: Kunst, Jazz und Bruckner – drei große Begriffe, die allesamt im ersten Kidsclub nach den Sommerferien einen Platz finden werden. Treffpunkt ist die Brunnhofer Galerie, wo Elisabeth und Stefan Brunnhofer die Kidsclub-Mitglieder in die Welt der zeitgenössischen Kunst eintauchen lassen.

Galerie Brunnhofer
Hafenstraße 33, 4020 Linz
i: www.brunnhofer.at/galerie
t: +43 732 7783210
e: art@brunnhofer.at

Ein Service von Kultur.net. http://www.simskultur.net
SUMMARY;LANGUAGE=de:In der Galerie - Antons Kidsclub 6+
PRIORITY:5
CLASS:PUBLIC
URL:https://kultur.net/galerie-brunnhofer/programm/in-der-galerie-antons-kidsclub-6
STATUS:CONFIRMED
END:VEVENT
END:VCALENDAR
