BEGIN:VCALENDAR
PRODID:-//SIMsKultur.net//iCal Class MIMEDIR//EN
VERSION:2.0
METHOD:PUBLISH
BEGIN:VEVENT
DTSTART:20260919T173000Z
DTEND:20260919T183000Z
LOCATION;LANGUAGE=de:Untere Donaulände 7, 4010 Linz
TRANSP:OPAQUE
SEQUENCE:0
UID:7410bba4f2ea29c23a7b84650e28e37f
DTSTAMP:20260420T155900Z
DESCRIPTION;LANGUAGE=de:Rakitina, Dohr & Bruckner Orchester Linz: Pathétique! Nicht weniger als die größtmögliche dramatische Geste vollzieht das Konzert, mit dem das Bruckner Orchester Linz den Zyklus der Großen Orchester in der Saison 26–27 einläutet. Mit Pjotr Iljitsch Tschaikowskis gleichnamiger 6. Symphonie h-Moll steht eines der großen Werke der Musikgeschichte im Mittelpunkt des Programms, das mit der Sinfonia zu Giuseppe Verdis Oper La forza del destino ebenso schicksalshaft beginnt.

Brucknerhaus Linz
Untere Donaulände 7, 4010 Linz
i: www.brucknerhaus.at
t: +43 732 76120
e: brucknerhaus@liva.linz.at

Ein Service von Kultur.net. http://www.simskultur.net
SUMMARY;LANGUAGE=de:Rakitina, Dohr & Bruckner Orchester Linz
PRIORITY:5
CLASS:PUBLIC
URL:https://kultur.net/brucknerhaus-linz/programm/rakitina-dohr-bruckner-orchester-linz
STATUS:CONFIRMED
END:VEVENT
END:VCALENDAR
