BEGIN:VCALENDAR
PRODID:-//SIMsKultur.net//iCal Class MIMEDIR//EN
VERSION:2.0
METHOD:PUBLISH
BEGIN:VEVENT
DTSTART:20260915T173000Z
DTEND:20260915T183000Z
LOCATION;LANGUAGE=de:Europaplatz 3, 4021 Linz
TRANSP:OPAQUE
SEQUENCE:0
UID:847bb796c10ee23024f3eafd0c173568
DTSTAMP:20260422T024300Z
DESCRIPTION;LANGUAGE=de:Austrofred & Atalante Quartett - Heast Bruckner: Der Austrofred träumt, er wäre Anton Bruckner. Als Bruckner begegnet er im Himmel dem Herrgott und bittet ihn, endlich den Großglockner von unten sehen zu dürfen. Der Herrgott stimmt nur widerwillig zu und warnt den Komponisten, dass man ihn überall erkennen wird. Außerdem verlangt er von Bruckner eine Gegenleistung:

ORF Landesstudio OÖ
Europaplatz 3, 4021 Linz
i: http://ooe.orf.at
t: +43 732 6900-0
e: service.ooe@orf.at

Ein Service von Kultur.net. http://www.simskultur.net
SUMMARY;LANGUAGE=de:Austrofred & Atalante Quartett - Heast Bruckner
PRIORITY:5
CLASS:PUBLIC
URL:https://kultur.net/orf-landesstudio-ooe/programm/austrofred-atalante-quartett-heast-bruckner
STATUS:CONFIRMED
END:VEVENT
END:VCALENDAR
