BEGIN:VCALENDAR
PRODID:-//SIMsKultur.net//iCal Class MIMEDIR//EN
VERSION:2.0
METHOD:PUBLISH
BEGIN:VEVENT
DTSTART:20260620T220000Z
LOCATION;LANGUAGE=de:Museumgasse 2, 9021 Klagenfurt am Wörthersee
TRANSP:OPAQUE
SEQUENCE:0
UID:35132745286753cf264411456dbbd45e
DTSTAMP:20260422T041000Z
DESCRIPTION;LANGUAGE=de:AUFBRUCH!: Am 14. Dezember 2025 ging die Koralmbahn in Betrieb. Aus diesem Anlass haben das Grazer Museum für Geschichte und das kärnten.museum Klagenfurt eine gemeinsame kulturhistorische Ausstellung zur besonderen Beziehung der beiden Bundesländer Kärnten und Steiermark entwickelt.

kärnten.museum
Museumgasse 2, 9021 Klagenfurt am Wörthersee
i: www.landesmuseum.ktn.gv.at
t: +43 50 536-30599
e: erlebnis@kaernten.museum

Ein Service von Kultur.net. http://www.simskultur.net
SUMMARY;LANGUAGE=de:AUFBRUCH!
PRIORITY:5
CLASS:PUBLIC
URL:https://kultur.net/kaerntenmuseum/programm/aufbruch
STATUS:CONFIRMED
END:VEVENT
END:VCALENDAR
