BEGIN:VCALENDAR
PRODID:-//SIMsKultur.net//iCal Class MIMEDIR//EN
VERSION:2.0
METHOD:PUBLISH
BEGIN:VEVENT
DTSTART:20260430T180000Z
DTEND:20260430T190000Z
LOCATION;LANGUAGE=de:Hofgasse 11, 8010 Graz
TRANSP:OPAQUE
SEQUENCE:0
UID:4412b470adb52d401b8b4d395c83a7f7
DTSTAMP:20260424T230200Z
DESCRIPTION;LANGUAGE=de:Erinnerung eines Mädchens: Das titelgebende »Mädchen« Annie ist 17 Jahre alt. Erfüllt von Bildern und Vorstellungen, denen sie glaubt entsprechen zu müssen, verbringt sie einen Sommer als Betreuerin im Ferienlager. Sie will da-zugehören, sich verlieben, selbst erleben, was alle in ihrem Alter so selbstverständlich zu tun scheinen.

Schauspielhaus Graz - Schauraum
Hofgasse 11, 8010 Graz
i: www.schauspielhaus-graz.com
t: +43 316 8000
e: presse-sh@schauspielhaus-graz.com

Ein Service von Kultur.net. http://www.simskultur.net
SUMMARY;LANGUAGE=de:Erinnerung eines Mädchens
PRIORITY:5
CLASS:PUBLIC
URL:https://kultur.net/schauspielhaus-graz-schauraum/programm/erinnerung-eines-maedchens
STATUS:CONFIRMED
END:VEVENT
END:VCALENDAR
