BEGIN:VCALENDAR
PRODID:-//SIMsKultur.net//iCal Class MIMEDIR//EN
VERSION:2.0
METHOD:PUBLISH
BEGIN:VEVENT
DTSTART:20260421T173000Z
DTEND:20260421T183000Z
LOCATION;LANGUAGE=de:Seestraße 2, 6900 Bregenz
TRANSP:OPAQUE
SEQUENCE:0
UID:a7a4e08ed40ab67c25efa425375f907a
DTSTAMP:20260422T010600Z
DESCRIPTION;LANGUAGE=de:DAS GESETZ DER SCHWERKRAFT: Österreichische Erstaufführung - In einer Vorstadt treffen zwei Jugendliche aufeinander, die mit ihrer Identität ringen und auf der Suche sind nach Zugehörigkeit und Akzeptanz: Dom und Fred stehen am Grenzpunkt zwischen Kindheit und Erwachsenwerden, zwischen den Erwartungen, die man an sie stellt, und dem Wunsch, ganz einfach sie selbst zu sein.

Vorarlberger Landestheater
Seestraße 2, 6900 Bregenz
i: https://landestheater.org/
t: +43 5574 42870600 
e: info@landestheater.org

Ein Service von Kultur.net. http://www.simskultur.net
SUMMARY;LANGUAGE=de:DAS GESETZ DER SCHWERKRAFT
PRIORITY:5
CLASS:PUBLIC
URL:https://kultur.net/vorarlberger-landestheater/programm/das-gesetz-der-schwerkraft
STATUS:CONFIRMED
END:VEVENT
END:VCALENDAR
