BEGIN:VCALENDAR
PRODID:-//SIMsKultur.net//iCal Class MIMEDIR//EN
VERSION:2.0
METHOD:PUBLISH
BEGIN:VEVENT
DTSTART:20260711T211500Z
DTEND:20260711T221500Z
LOCATION;LANGUAGE=de:Rothmühlstraße 5, 2320 Schwechat-Rannersdorf
TRANSP:OPAQUE
SEQUENCE:0
UID:6f4a9793b1efa72fc9df7089b71322e7
DTSTAMP:20260423T012200Z
DESCRIPTION;LANGUAGE=de:NACHWANDLER AFTER SHOW PARTY 2026: Direkt im Anschluss an die Vorstellung mit Musik und Drinks im Garten der Rothmühle.

Schlosshof Rothmühle
Rothmühlstraße 5, 2320 Schwechat-Rannersdorf
i: http://www.rothmuehle.at
t: +43 1 70108278
e: office@rothmuehle.at

Ein Service von Kultur.net. http://www.simskultur.net
SUMMARY;LANGUAGE=de:NACHWANDLER AFTER SHOW PARTY 2026
PRIORITY:5
CLASS:PUBLIC
URL:https://kultur.net/schlosshof-rothmuehle/programm/nachwandler-after-show-party-2026
STATUS:CONFIRMED
END:VEVENT
END:VCALENDAR
