BEGIN:VCALENDAR
PRODID:-//SIMsKultur.net//iCal Class MIMEDIR//EN
VERSION:2.0
METHOD:PUBLISH
BEGIN:VEVENT
DTSTART:20260712T160000Z
DTEND:20260712T170000Z
LOCATION;LANGUAGE=de:Rosenburg 1, 3573 Rosenburg
TRANSP:OPAQUE
SEQUENCE:0
UID:57874777a2d38d481b219cebefad1b74
DTSTAMP:20260421T150500Z
DESCRIPTION;LANGUAGE=de:SUGAR – Manche mögen’s heiß: Die Sommernachtskomödie Rosenburg wird ihr Publikum in der elften Saison mit einer actionreichen, lustigen sowie romantischen Komödie begeistern: "SUGAR – Manche mögen’s heiß". In letzter Minute gelingt es Joe und Jerry, zwei Männer in Frauenkleidern, die berühmte Girl-Band „Society Syncopators“ vor dem Aus zu retten. Doch ihre Tarnung bringt sie in eine gefährliche Welt voller Verstrickungen, Rivalitäten und Gangster-Alarm.

Renaissanceschloss Rosenburg
Rosenburg 1, 3573 Rosenburg
i: www.rosenburg.at
t: +43 2982 29 11
e: schloss@rosenburg.at

Ein Service von Kultur.net. http://www.simskultur.net
SUMMARY;LANGUAGE=de:SUGAR – Manche mögen’s heiß
PRIORITY:5
CLASS:PUBLIC
URL:https://kultur.net/renaissanceschloss-rosenburg/programm/sugar-manche-moegen-s-heiss
STATUS:CONFIRMED
END:VEVENT
END:VCALENDAR
