BEGIN:VCALENDAR
PRODID:-//SIMsKultur.net//iCal Class MIMEDIR//EN
VERSION:2.0
METHOD:PUBLISH
BEGIN:VEVENT
DTSTART:20260724T183000Z
DTEND:20260724T193000Z
LOCATION;LANGUAGE=de:Rothmühlstraße 5, 2320 Schwechat-Rannersdorf
TRANSP:OPAQUE
SEQUENCE:0
UID:a01275322a42f9b393977488568fe44a
DTSTAMP:20260422T135100Z
DESCRIPTION;LANGUAGE=de:Mein Freund: "Ich hab’ einmahl einen Freund g’habt, und seitdem hab’ ich gar keinen Abscheu mehr vor die Feind’." Was bedeutet Freundschaft? Auf wen kann man sich verlassen? Wem vertrauen? Und hat man heutzutage als gutgläubiger, optimistischer, ja fast schon naiv denkender Mensch überhaupt noch eine Chance?

Schlosshof Rothmühle
Rothmühlstraße 5, 2320 Schwechat-Rannersdorf
i: http://www.rothmuehle.at
t: +43 1 70108278
e: office@rothmuehle.at

Ein Service von Kultur.net. http://www.simskultur.net
SUMMARY;LANGUAGE=de:Mein Freund
PRIORITY:5
CLASS:PUBLIC
URL:https://kultur.net/schlosshof-rothmuehle/programm/mein-freund
STATUS:CONFIRMED
END:VEVENT
END:VCALENDAR
