BEGIN:VCALENDAR
PRODID:-//SIMsKultur.net//iCal Class MIMEDIR//EN
VERSION:2.0
METHOD:PUBLISH
BEGIN:VEVENT
DTSTART:20260501T180000Z
DTEND:20260501T190000Z
LOCATION;LANGUAGE=de:Palmstraße 4, 5280 Braunau
TRANSP:OPAQUE
SEQUENCE:0
UID:23541dc4e9db9d022b67d61c31c5a1da
DTSTAMP:20260422T024200Z
DESCRIPTION;LANGUAGE=de:Mally & Schneider feat. M. Gasselsberger: Ein Blues-Abend der Extraklasse! Zwei akustische Gitarren, eine Mundharmonika, ein Piano und die raue, kraftvolle Stimme von „Sir" Oliver Mally – das sind die Zutaten für ein beeindruckendes musikalisches Erlebnis, das die Bluesexperten ihrem Publikum bieten.

Gugg Kulturhaus - Stadt Braunau
Palmstraße 4, 5280 Braunau
i: www.gugg.at
t: +43 7722 65692
e: gugg@gugg.at

Ein Service von Kultur.net. http://www.simskultur.net
SUMMARY;LANGUAGE=de:Mally & Schneider feat. M. Gasselsberger
PRIORITY:5
CLASS:PUBLIC
URL:https://kultur.net/gugg-kulturhaus-stadt-braunau/programm/mally-schneider-feat-m-gasselsberger
STATUS:CONFIRMED
END:VEVENT
END:VCALENDAR
