BEGIN:VCALENDAR
PRODID:-//SIMsKultur.net//iCal Class MIMEDIR//EN
VERSION:2.0
METHOD:PUBLISH
BEGIN:VEVENT
DTSTART:20260430T180000Z
DTEND:20260430T190000Z
LOCATION;LANGUAGE=de:Palmstraße 4, 5280 Braunau
TRANSP:OPAQUE
SEQUENCE:0
UID:4412b470adb52d401b8b4d395c83a7f7
DTSTAMP:20260425T180200Z
DESCRIPTION;LANGUAGE=de:KERNÖLAMAZONEN - 20 Jahre Liebe und Kernöl!: 20 Jahre! So lange gibt es bereits die Kernölamazonen. Da sie sich aber so fühlen, als wären sie gerade einmal selbst so alt geworden, beschließen die beiden, wie auch schon bei ihrem ersten Programm, ihr rotes Köfferchen zu packen und ihre Liederliebesreise von damals zu wiederholen.

Gugg Kulturhaus - Stadt Braunau
Palmstraße 4, 5280 Braunau
i: www.gugg.at
t: +43 7722 65692
e: gugg@gugg.at

Ein Service von Kultur.net. http://www.simskultur.net
SUMMARY;LANGUAGE=de:KERNÖLAMAZONEN - 20 Jahre Liebe und Kernöl!
PRIORITY:5
CLASS:PUBLIC
URL:https://kultur.net/gugg-kulturhaus-stadt-braunau/programm/kernoelamazonen-20-jahre-liebe-und-kernoel
STATUS:CONFIRMED
END:VEVENT
END:VCALENDAR
