BEGIN:VCALENDAR
PRODID:-//SIMsKultur.net//iCal Class MIMEDIR//EN
VERSION:2.0
METHOD:PUBLISH
BEGIN:VEVENT
DTSTART:20260819T171500Z
DTEND:20260819T181500Z
LOCATION;LANGUAGE=de:Steinbruch St.Margarethen, 7062 St. Margarethen
TRANSP:OPAQUE
SEQUENCE:0
UID:98b66563c063646b6ddd2b12261ba7d6
DTSTAMP:20260422T225600Z
DESCRIPTION;LANGUAGE=de:Bühnenführung - Oper im Steinbruch: Ein Blick hinter die Kulissen - Beeindruckende Bühnenbilder und opulente Spezialeffekte bereiten den Besuchern seit Jahren unvergessliche Opernabende im Steinbruch St. Margarethen. Werfen Sie einen Blick über die Schulter des Bühnenbildners und gewinnen Sie einen Eindruck über den Ablauf und die Technik hinter den Kulissen.

Steinbruch St.Margarethen
Steinbruch St.Margarethen, 7062 St. Margarethen
i: https://esterhazy.at/steinbruch-margarethen
t: +43 2682 63004
e: ausstellung@esterhazy.at

Ein Service von Kultur.net. http://www.simskultur.net
SUMMARY;LANGUAGE=de:Bühnenführung - Oper im Steinbruch
PRIORITY:5
CLASS:PUBLIC
URL:https://kultur.net/steinbruch-stmargarethen/programm/buehnenfuehrung-oper-im-steinbruch
STATUS:CONFIRMED
END:VEVENT
END:VCALENDAR
