BEGIN:VCALENDAR
PRODID:-//SIMsKultur.net//iCal Class MIMEDIR//EN
VERSION:2.0
METHOD:PUBLISH
BEGIN:VEVENT
DTSTART:20260408T174500Z
DTEND:20260408T184500Z
LOCATION;LANGUAGE=de:Wiedner Hauptstraße 106-108, 1050 Wien
TRANSP:OPAQUE
SEQUENCE:0
UID:57a958eb5aa5bfae3a7cb6ffcd873d92
DTSTAMP:20260425T025800Z
DESCRIPTION;LANGUAGE=de:Im Dickicht der Städte: „Sie befinden sich in der Stadt Chicago. Sie betrachten den unerklärlichen Ringkampf zweier Menschen. Zerbrechen Sie sich nicht den Kopf über die Motive dieses Kampfes, sondern beteiligen Sie sich an den menschlichen Einsätzen, beurteilen Sie unparteiisch die Kampfform der Gegner und lenken Sie Ihr Interesse auf das Finish.”

Theater Scala
Wiedner Hauptstraße 106-108, 1050 Wien
i: www.theaterscala.at
t: +43 1 54420-70
e: tzf@gmx.net

Ein Service von Kultur.net. http://www.simskultur.net
SUMMARY;LANGUAGE=de:Im Dickicht der Städte
PRIORITY:5
CLASS:PUBLIC
URL:https://kultur.net/theater-scala/programm/im-dickicht-der-staedte
STATUS:CONFIRMED
END:VEVENT
END:VCALENDAR
