BEGIN:VCALENDAR
PRODID:-//SIMsKultur.net//iCal Class MIMEDIR//EN
VERSION:2.0
METHOD:PUBLISH
BEGIN:VEVENT
DTSTART:20260422T163000Z
DTEND:20260422T173000Z
LOCATION;LANGUAGE=de:Universitätsstraße 1, 6020 Innsbruck
TRANSP:OPAQUE
SEQUENCE:0
UID:f95040001a7a56ec14dcd2278b94b4fe
DTSTAMP:20260426T022100Z
DESCRIPTION;LANGUAGE=de:Folk & Apéro 2025/26: In diesem neuen After Work Concert mit Volksmusik erwartet die Besucher:innen immer ein abwechslungsreiches Programm. Die Besetzungen werden zeitnah bekanntgegeben.

Haus der Musik Innsbruck
Universitätsstraße 1, 6020 Innsbruck
i: https://www.haus-der-musik-innsbruck.at/
t: +43 512 52074
e: info@hdm-innsbruck.at

Ein Service von Kultur.net. http://www.simskultur.net
SUMMARY;LANGUAGE=de:Folk & Apéro 2025/26
PRIORITY:5
CLASS:PUBLIC
URL:https://kultur.net/haus-der-musik-innsbruck/programm/folk-apero-202526
STATUS:CONFIRMED
END:VEVENT
END:VCALENDAR
