BEGIN:VCALENDAR
PRODID:-//SIMsKultur.net//iCal Class MIMEDIR//EN
VERSION:2.0
METHOD:PUBLISH
BEGIN:VEVENT
DTSTART:20260919T220000Z
LOCATION;LANGUAGE=de:Hauptstraße 1A, 2404 Petronell-Carnuntum
TRANSP:OPAQUE
SEQUENCE:0
UID:5ea1c3e6ad826d2175370b4cdb19bb85
DTSTAMP:20260422T212700Z
DESCRIPTION;LANGUAGE=de:Zeitreiseführung: Im Rahmen der Zeitreiseführung treffen Sie einen Bewohner oder eine Bewohnerin des antiken Carnuntums und erfahren mehr über die Welt und den Alltag vor 1.700 Jahren.

Römerstadt Carnuntum
Hauptstraße 1A, 2404 Petronell-Carnuntum
i: www.carnuntum.at
t: +43 2163 3377-799
e: roemerstadt@carnuntum.at

Ein Service von Kultur.net. http://www.simskultur.net
SUMMARY;LANGUAGE=de:Zeitreiseführung
PRIORITY:5
CLASS:PUBLIC
URL:https://kultur.net/roemerstadt-carnuntum/programm/zeitreisefuehrung
STATUS:CONFIRMED
END:VEVENT
END:VCALENDAR
