BEGIN:VCALENDAR
PRODID:-//SIMsKultur.net//iCal Class MIMEDIR//EN
VERSION:2.0
METHOD:PUBLISH
BEGIN:VEVENT
DTSTART:20260614T130000Z
DTEND:20260614T140000Z
LOCATION;LANGUAGE=de:Schwarzstraße 22, 5020 Salzburg
TRANSP:OPAQUE
SEQUENCE:0
UID:3495ed9adf0b089d287ece5f575e76ca
DTSTAMP:20260425T210400Z
DESCRIPTION;LANGUAGE=de:Carmen / Rosa / Boléro: Dieser Ballettabend führt uns thematisch auf die iberische Halbinsel. Erstmals im großen Haus werden gleich drei verschiedene choreographische Handschriften an einem Abend präsentiert und unser Ballettensemble hat die Möglichkeit, seine ganze tänzerische Vielfalt und interpretatorische Bandbreite unter Beweis zu stellen.

Salzburger Landestheater
Schwarzstraße 22, 5020 Salzburg
i: www.salzburger-landestheater.at
t: +43 662 8715-12222
e: service@salzburger-landestheater.at

Ein Service von Kultur.net. http://www.simskultur.net
SUMMARY;LANGUAGE=de:Carmen / Rosa / Boléro
PRIORITY:5
CLASS:PUBLIC
URL:https://kultur.net/salzburger-landestheater/programm/carmen-rosa-bolero
STATUS:CONFIRMED
END:VEVENT
END:VCALENDAR
