BEGIN:VCALENDAR
PRODID:-//SIMsKultur.net//iCal Class MIMEDIR//EN
VERSION:2.0
METHOD:PUBLISH
BEGIN:VEVENT
DTSTART:20260513T170000Z
DTEND:20260513T180000Z
LOCATION;LANGUAGE=de:Linke Wienzeile 6, 1060 Wien
TRANSP:OPAQUE
SEQUENCE:0
UID:d978debaa27b0c44a148fa49b0077e62
DTSTAMP:20260425T194600Z
DESCRIPTION;LANGUAGE=de:Stiffelio: Stiffelio entdeckt nach der Rückkehr von einer Reise, dass seine Frau Lina ihn mit dem Edelmann Raffaele betrogen hat. Sein unmittelbarer Impuls ist es, die Tat zu rächen, doch muss er als Pfarrer einer protestantischen Täufergemeinde jegliche Entscheidung nicht nur vor sich selbst, sondern auch vor Gott und vor den Menschen, deren Vorbild er sein soll, rechtfertigen und gerät in einen tiefen Konflikt.

Theater an der Wien – Das Opernhaus
Linke Wienzeile 6, 1060 Wien
i: https://www.theater-wien.at
t: +43 1 58830–1010
e: info@theater-wien.at

Ein Service von Kultur.net. http://www.simskultur.net
SUMMARY;LANGUAGE=de:Stiffelio
PRIORITY:5
CLASS:PUBLIC
URL:https://kultur.net/theater-an-der-wien-das-opernhaus/programm/stiffelio
STATUS:CONFIRMED
END:VEVENT
END:VCALENDAR
