BEGIN:VCALENDAR
PRODID:-//SIMsKultur.net//iCal Class MIMEDIR//EN
VERSION:2.0
METHOD:PUBLISH
BEGIN:VEVENT
DTSTART:20260520T173000Z
DTEND:20260520T183000Z
LOCATION;LANGUAGE=de:Rotenturmstraße 20, 1010 Wien
TRANSP:OPAQUE
SEQUENCE:0
UID:b4f4d00bc5b7a1834179f1a7e2180fa2
DTSTAMP:20260426T040000Z
DESCRIPTION;LANGUAGE=de:Sherlock Holmes: Der Fall Moriarty: Österreichische Erstaufführung - Der König von Böhmen wendet sich in größter Not an Sherlock Holmes: Seine heimliche Liebesaffäre mit der faszinierenden Miss Adler droht, ihm politisch zum Verhängnis zu werden. Was anfangs wie ein simpler Fall wirkt, entpuppt sich schon bald als hochbrisantes Machtspiel.

Kammerspiele
Rotenturmstraße 20, 1010 Wien
i: www.josefstadt.org
t: +43 1 42700-300
e: office@josefstadt.org

Ein Service von Kultur.net. http://www.simskultur.net
SUMMARY;LANGUAGE=de:Sherlock Holmes: Der Fall Moriarty
PRIORITY:5
CLASS:PUBLIC
URL:https://kultur.net/kammerspiele/programm/sherlock-holmes-der-fall-moriarty
STATUS:CONFIRMED
END:VEVENT
END:VCALENDAR
