BEGIN:VCALENDAR
PRODID:-//SIMsKultur.net//iCal Class MIMEDIR//EN
VERSION:2.0
METHOD:PUBLISH
BEGIN:VEVENT
DTSTART:20260516T173000Z
DTEND:20260516T183000Z
LOCATION;LANGUAGE=de:Josefstädter Straße 26, 1080 Wien
TRANSP:OPAQUE
SEQUENCE:0
UID:ea2527467e0ba7925f9901815a006e54
DTSTAMP:20260425T163200Z
DESCRIPTION;LANGUAGE=de:Ein deutsches Leben: Aber wir wollten es ja auch gar nicht wissen. Nach jahrzehntelangem Schweigen sprach Brunhilde Pomsel im Alter von 103 Jahren zum ersten Mal umfassend über ihre Zeit als Stenotypistin und Sekretärin von Reichspropagandaminister Joseph Goebbels.

Theater in der Josefstadt
Josefstädter Straße 26, 1080 Wien
i: www.josefstadt.org
t: +43 1 42700-300
e: office@josefstadt.org

Ein Service von Kultur.net. http://www.simskultur.net
SUMMARY;LANGUAGE=de:Ein deutsches Leben
PRIORITY:5
CLASS:PUBLIC
URL:https://kultur.net/theater-in-der-josefstadt/programm/ein-deutsches-leben
STATUS:CONFIRMED
END:VEVENT
END:VCALENDAR
