BEGIN:VCALENDAR
PRODID:-//SIMsKultur.net//iCal Class MIMEDIR//EN
VERSION:2.0
METHOD:PUBLISH
BEGIN:VEVENT
DTSTART:20260623T173000Z
DTEND:20260623T183000Z
LOCATION;LANGUAGE=de:Josefstädter Straße 26, 1080 Wien
TRANSP:OPAQUE
SEQUENCE:0
UID:f35b05b234b1a2a991c399ec429a013a
DTSTAMP:20260419T202100Z
DESCRIPTION;LANGUAGE=de:Ein Sommernachtstraum: Was für Narren diese Sterblichen sind! Nur noch wenige Tage trennen Theseus, den Herrscher von Athen, und Hippolyta, die Amazonenkönigin, die er im Kampf bezwungen hat, von ihrer Hochzeit. Am selben Tag soll Hermia Demetrius heiraten, wie es ihr Vater befiehlt.

Theater in der Josefstadt
Josefstädter Straße 26, 1080 Wien
i: www.josefstadt.org
t: +43 1 42700-300
e: office@josefstadt.org

Ein Service von Kultur.net. http://www.simskultur.net
SUMMARY;LANGUAGE=de:Ein Sommernachtstraum
PRIORITY:5
CLASS:PUBLIC
URL:https://kultur.net/theater-in-der-josefstadt/programm/ein-sommernachtstraum
STATUS:CONFIRMED
END:VEVENT
END:VCALENDAR
