BEGIN:VCALENDAR
PRODID:-//SIMsKultur.net//iCal Class MIMEDIR//EN
VERSION:2.0
METHOD:PUBLISH
BEGIN:VEVENT
DTSTART:20260523T143000Z
DTEND:20260523T153000Z
LOCATION;LANGUAGE=de:Josefstädter Straße 26, 1080 Wien
TRANSP:OPAQUE
SEQUENCE:0
UID:d50a3f4b41f6ec0ba15e73e91ad64602
DTSTAMP:20260426T040200Z
DESCRIPTION;LANGUAGE=de:Kasperl & Co: Für die kleinsten Besucher*innen: Der Kasperl - Hurra, hurrra, der Kasperl, der ist wieder da! Stefan Gaugusch ist Puppenspieler und Schöpfer so bekannter Figuren wie Rolf Rüdiger, Confetti und Co. Einmal im Monat bringt er seine witzig-fantasievollen Kasperlmärchen in die Sträußelsäle des Theaters in der Josefstadt und bringt damit das jüngstes Publikum zum Strahlen.

Theater in der Josefstadt
Josefstädter Straße 26, 1080 Wien
i: www.josefstadt.org
t: +43 1 42700-300
e: office@josefstadt.org

Ein Service von Kultur.net. http://www.simskultur.net
SUMMARY;LANGUAGE=de:Kasperl & Co
PRIORITY:5
CLASS:PUBLIC
URL:https://kultur.net/theater-in-der-josefstadt/programm/kasperl-co-3
STATUS:CONFIRMED
END:VEVENT
END:VCALENDAR
