BEGIN:VCALENDAR
PRODID:-//SIMsKultur.net//iCal Class MIMEDIR//EN
VERSION:2.0
METHOD:PUBLISH
BEGIN:VEVENT
DTSTART:20260614T090000Z
DTEND:20260614T100000Z
LOCATION;LANGUAGE=de:Lisztstraße 46, 7321  Raiding
TRANSP:OPAQUE
SEQUENCE:0
UID:7d773dbd48511d4c935332b55de6f6ca
DTSTAMP:20260422T134300Z
DESCRIPTION;LANGUAGE=de:Summer Concerts: La Philharmonica: Sechs Spitzenmusikerinnen aus den Reihen der Wiener Philharmoniker finden in einer spannenden Kombination aus Streich- und Holzblasinstrumenten zusammen. Ausgehend von ihrer orchestralen Musiziertradition spannen sie ihr Repertoire von klassischer Wiener Tanzmusik über Juwelen der Opernliteratur bis hin zu Exkursionen in die Welt der Filmmusik.

Liszt Zentrum Raiding
Lisztstraße 46, 7321  Raiding
i: http://www.lisztzentrum.at
t: +43 2619 51047 
e: raiding@lisztzentrum.at 

Ein Service von Kultur.net. http://www.simskultur.net
SUMMARY;LANGUAGE=de:Summer Concerts: La Philharmonica
PRIORITY:5
CLASS:PUBLIC
URL:https://kultur.net/liszt-zentrum-raiding/programm/summer-concerts-la-philharmonica
STATUS:CONFIRMED
END:VEVENT
END:VCALENDAR
