BEGIN:VCALENDAR
PRODID:-//SIMsKultur.net//iCal Class MIMEDIR//EN
VERSION:2.0
METHOD:PUBLISH
BEGIN:VEVENT
DTSTART:20260425T163000Z
DTEND:20260425T173000Z
LOCATION;LANGUAGE=de:Lisztstraße 46, 7321  Raiding
TRANSP:OPAQUE
SEQUENCE:0
UID:838044ceb1e9e3ca5b7072083a435a2f
DTSTAMP:20260423T192300Z
DESCRIPTION;LANGUAGE=de:Brass Fest: Saxophonquintett MASQ & Vienna Clarinet Connection: Sie gehören international zu den Vorreitern ihrer jeweiligen Besetzung und setzen Maßstäbe in puncto Virtuosität, Kreativität und Musizierfreude: VCC und MASQ! Seit drei Jahrzehnten begeistert Helmut Hödls Vienna Clarinet Connection seine Zuhörerschaft in ganz Europa.

Liszt Zentrum Raiding
Lisztstraße 46, 7321  Raiding
i: http://www.lisztzentrum.at
t: +43 2619 51047 
e: raiding@lisztzentrum.at 

Ein Service von Kultur.net. http://www.simskultur.net
SUMMARY;LANGUAGE=de:Brass Fest: Saxophonquintett MASQ & Vienna Clarinet Connection
PRIORITY:5
CLASS:PUBLIC
URL:https://kultur.net/liszt-zentrum-raiding/programm/brass-fest-saxophonquintett-masq-vienna-clarinet-connection
STATUS:CONFIRMED
END:VEVENT
END:VCALENDAR
