BEGIN:VCALENDAR
PRODID:-//SIMsKultur.net//iCal Class MIMEDIR//EN
VERSION:2.0
METHOD:PUBLISH
BEGIN:VEVENT
DTSTART:20260425T090000Z
DTEND:20260425T100000Z
LOCATION;LANGUAGE=de:Lisztstraße 46, 7321  Raiding
TRANSP:OPAQUE
SEQUENCE:0
UID:de77e0dc295b0d49a3ce1be9413e5025
DTSTAMP:20260425T212700Z
DESCRIPTION;LANGUAGE=de:Brass Fest: Joseph Haydn Brass: Tauchen Sie mit Haydn brass in ein faszinierendes Cross-Over-Programm ein, welches klassische Meisterwerke von Joseph Haydn und Wolfgang Amadeus Mozart mit zeitlosen Klängen von Stevie Wonder, Duke Ellington und Dave Brubeck verbindet.

Liszt Zentrum Raiding
Lisztstraße 46, 7321  Raiding
i: http://www.lisztzentrum.at
t: +43 2619 51047 
e: raiding@lisztzentrum.at 

Ein Service von Kultur.net. http://www.simskultur.net
SUMMARY;LANGUAGE=de:Brass Fest: Joseph Haydn Brass
PRIORITY:5
CLASS:PUBLIC
URL:https://kultur.net/liszt-zentrum-raiding/programm/brass-fest-joseph-haydn-brass
STATUS:CONFIRMED
END:VEVENT
END:VCALENDAR
