BEGIN:VCALENDAR
PRODID:-//SIMsKultur.net//iCal Class MIMEDIR//EN
VERSION:2.0
METHOD:PUBLISH
BEGIN:VEVENT
DTSTART:20260401T173000Z
DTEND:20260401T183000Z
LOCATION;LANGUAGE=de:Bahngasse 27, 2700 Wiener Neustadt
TRANSP:OPAQUE
SEQUENCE:0
UID:8385539b822042675a759e2540bd72be
DTSTAMP:20260423T035900Z
DESCRIPTION;LANGUAGE=de:100 Jahre Bronner & Kreisler: Der g’schupfte Ferdl geht Taubenvergiften im Park mit Bela Koreny, Karl Markovics, Julia Stemberger, Caroline Frank, Ethel Merhaut und Wolf Bachofner! Wer es in guter alter Wiener Tradition mit viel Schmäh, aber auch gern etwas morbide mag, kommt an diesem Abend mit Sicherheit auf seine Rechnung.

Kasematten Wiener Neustadt
Bahngasse 27, 2700 Wiener Neustadt
i: https://www.kasematten-wn.at/de/
t: +43 2622 373 933
e: office@kasematten-wn.at

Ein Service von Kultur.net. http://www.simskultur.net
SUMMARY;LANGUAGE=de:100 Jahre Bronner & Kreisler
PRIORITY:5
CLASS:PUBLIC
URL:https://kultur.net/kasematten-wiener-neustadt/programm/100-jahre-bronner-kreisler
STATUS:CONFIRMED
END:VEVENT
END:VCALENDAR
