BEGIN:VCALENDAR
PRODID:-//SIMsKultur.net//iCal Class MIMEDIR//EN
VERSION:2.0
METHOD:PUBLISH
BEGIN:VEVENT
DTSTART:20260509T083000Z
DTEND:20260509T093000Z
LOCATION;LANGUAGE=de:Untere Donaulände 7, 4010 Linz
TRANSP:OPAQUE
SEQUENCE:0
UID:fdf2e9c06e6e2f11ab5e7a384e5ec6b5
DTSTAMP:20260425T210100Z
DESCRIPTION;LANGUAGE=de:Familienführung - Fokus Orgel: Wie klingt und funktioniert das größte Instrument im Brucknerhaus Linz, die Orgel Die Führung ist bedauerlicherweise nicht kinderwagentauglich, es sind jedoch sichere Kinderwagenabstellplätze vorhanden.

Brucknerhaus Linz
Untere Donaulände 7, 4010 Linz
i: www.brucknerhaus.at
t: +43 732 76120
e: brucknerhaus@liva.linz.at

Ein Service von Kultur.net. http://www.simskultur.net
SUMMARY;LANGUAGE=de:Familienführung - Fokus Orgel
PRIORITY:5
CLASS:PUBLIC
URL:https://kultur.net/brucknerhaus-linz/programm/familienfuehrung-fokus-orgel
STATUS:CONFIRMED
END:VEVENT
END:VCALENDAR
