BEGIN:VCALENDAR
PRODID:-//SIMsKultur.net//iCal Class MIMEDIR//EN
VERSION:2.0
METHOD:PUBLISH
BEGIN:VEVENT
DTSTART:20260618T190000Z
DTEND:20260618T200000Z
LOCATION;LANGUAGE=de:Kaiser-Josef-Platz 10, 8010 Graz
TRANSP:OPAQUE
SEQUENCE:0
UID:ae5d24c5a6b2acbe1f77c5a60590a06f
DTSTAMP:20260425T163600Z
DESCRIPTION;LANGUAGE=de:Nachklang: "Modern Times": Das Nachgespräch für alle: Oper, Operette, Musical und Tanz mit Nachklang. Musiktheater ist ein Erlebnis, das erst abgeschlossen ist, wenn man sich darüber ausgetauscht hat.

Oper Graz
Kaiser-Josef-Platz 10, 8010 Graz
i: www.oper-graz.com
t: +43 316 8000
e: oper@oper-graz.at

Ein Service von Kultur.net. http://www.simskultur.net
SUMMARY;LANGUAGE=de:Nachklang: "Modern Times"
PRIORITY:5
CLASS:PUBLIC
URL:https://kultur.net/oper-graz/programm/nachklang-modern-times
STATUS:CONFIRMED
END:VEVENT
END:VCALENDAR
