BEGIN:VCALENDAR
PRODID:-//SIMsKultur.net//iCal Class MIMEDIR//EN
VERSION:2.0
METHOD:PUBLISH
BEGIN:VEVENT
DTSTART:20260624T123000Z
DTEND:20260624T133000Z
LOCATION;LANGUAGE=de:Kaiser-Josef-Platz 10, 8010 Graz
TRANSP:OPAQUE
SEQUENCE:0
UID:4d64b184d51341cdaed8d0617a5b5666
DTSTAMP:20260423T133500Z
DESCRIPTION;LANGUAGE=de:Espressokonzert: Immer mittwochs um 14.30 Uhr werden im Café Stolz zum Kaffee besondere musikalische Spezialitäten in Espressolänge serviert!

Oper Graz
Kaiser-Josef-Platz 10, 8010 Graz
i: www.oper-graz.com
t: +43 316 8000
e: oper@oper-graz.at

Ein Service von Kultur.net. http://www.simskultur.net
SUMMARY;LANGUAGE=de:Espressokonzert
PRIORITY:5
CLASS:PUBLIC
URL:https://kultur.net/oper-graz/programm/espressokonzert
STATUS:CONFIRMED
END:VEVENT
END:VCALENDAR
