BEGIN:VCALENDAR
PRODID:-//SIMsKultur.net//iCal Class MIMEDIR//EN
VERSION:2.0
METHOD:PUBLISH
BEGIN:VEVENT
DTSTART:20260617T123000Z
DTEND:20260617T133000Z
LOCATION;LANGUAGE=de:Kaiser-Josef-Platz 10, 8010 Graz
TRANSP:OPAQUE
SEQUENCE:0
UID:f9c0acca47cca601f00e4bbf9250a62d
DTSTAMP:20260425T114700Z
DESCRIPTION;LANGUAGE=de:Espressokonzert: Immer mittwochs um 14.30 Uhr werden im Café Stolz zum Kaffee besondere musikalische Spezialitäten in Espressolänge serviert!

Oper Graz
Kaiser-Josef-Platz 10, 8010 Graz
i: www.oper-graz.com
t: +43 316 8000
e: oper@oper-graz.at

Ein Service von Kultur.net. http://www.simskultur.net
SUMMARY;LANGUAGE=de:Espressokonzert
PRIORITY:5
CLASS:PUBLIC
URL:https://kultur.net/oper-graz/programm/espressokonzert
STATUS:CONFIRMED
END:VEVENT
END:VCALENDAR
