BEGIN:VCALENDAR
PRODID:-//SIMsKultur.net//iCal Class MIMEDIR//EN
VERSION:2.0
METHOD:PUBLISH
BEGIN:VEVENT
DTSTART:20260426T090000Z
DTEND:20260426T100000Z
LOCATION;LANGUAGE=de:Kaiser-Josef-Platz 10, 8010 Graz
TRANSP:OPAQUE
SEQUENCE:0
UID:638a928c4531a0e9a6389b764b2b1acc
DTSTAMP:20260422T023400Z
DESCRIPTION;LANGUAGE=de:Vor der Premiere: Der Rosenkavalier: Aus der Lektüre eines Werkes, seiner Interpretation, dem Austausch zwischen Musikalischer Leitung, Regisseur:in, Bühnenbildner:in, Kostümbildner:in, den Sänger:innen und anderen Beteiligten ist eine Idee entstanden und hat sich fortgesetzt. Erst kurz vor der Premiere werden alle Elemente zusammengeführt. Die ersten Proben auf der Bühne, das originale Bühnenbild, Orchester und Licht.

Oper Graz
Kaiser-Josef-Platz 10, 8010 Graz
i: www.oper-graz.com
t: +43 316 8000
e: oper@oper-graz.at

Ein Service von Kultur.net. http://www.simskultur.net
SUMMARY;LANGUAGE=de:Vor der Premiere: Der Rosenkavalier
PRIORITY:5
CLASS:PUBLIC
URL:https://kultur.net/oper-graz/programm/vor-der-premiere-der-rosenkavalier
STATUS:CONFIRMED
END:VEVENT
END:VCALENDAR
