BEGIN:VCALENDAR
PRODID:-//SIMsKultur.net//iCal Class MIMEDIR//EN
VERSION:2.0
METHOD:PUBLISH
BEGIN:VEVENT
DTSTART:20260422T220000Z
LOCATION;LANGUAGE=de:Schlossberg 1, 4010 Linz
TRANSP:OPAQUE
SEQUENCE:0
UID:970030477c5048d24650211339bd917f
DTSTAMP:20260425T212600Z
DESCRIPTION;LANGUAGE=de:WALDREICH. - Der Wald und Wir!: Der Wald ist ein wichtiger Bestandteil unseres Lebens, sei es als Heimat für eine Vielzahl von Arten, Sehnsuchtsort des Menschen, Objekt und Gegenstand der Kunst sowie der Naturwissenschaft oder als Ressource.

Schlossmuseum Linz
Schlossberg 1, 4010 Linz
i: www.schlossmuseum.at
t: +43 732 7720 523 00
e: schloss@ooelkg.at

Ein Service von Kultur.net. http://www.simskultur.net
SUMMARY;LANGUAGE=de:WALDREICH. - Der Wald und Wir!
PRIORITY:5
CLASS:PUBLIC
URL:https://kultur.net/schlossmuseum-linz/programm/waldreich-der-wald-und-wir
STATUS:CONFIRMED
END:VEVENT
END:VCALENDAR
