BEGIN:VCALENDAR
PRODID:-//SIMsKultur.net//iCal Class MIMEDIR//EN
VERSION:2.0
METHOD:PUBLISH
BEGIN:VEVENT
DTSTART:20280424T220000Z
LOCATION;LANGUAGE=de:Joanneumsviertel, Zugang Kalchberggasse, 8010 Graz
TRANSP:OPAQUE
SEQUENCE:0
UID:df915388cffce8453c95eb44cc16a3e3
DTSTAMP:20260425T162300Z
DESCRIPTION;LANGUAGE=de:Klimawandel in der Steiermark: Der menschengemachte Klimawandel betrifft auch die Steiermark. Zahlreiche Auswirkungen sind alltäglich spürbar, beispielsweise in Form der Häufungen von Extremwetterereignissen. Im Naturkundemuseum wurde das Thema Klimawandel schon in den letzten Jahren in einem speziellen Vermittlungsformat sowie im Rahmen zweier Ausstellungen angesprochen.

Naturkundemuseum, Universalmuseum Joanneum
Joanneumsviertel, Zugang Kalchberggasse, 8010 Graz
i: https://www.museum-joanneum.at/naturkundemuseum
t: +43-316 8017-9100 
e: joanneumsviertel@museum-joanneum.at

Ein Service von Kultur.net. http://www.simskultur.net
SUMMARY;LANGUAGE=de:Klimawandel in der Steiermark
PRIORITY:5
CLASS:PUBLIC
URL:https://kultur.net/naturkundemuseum-universalmuseum-joanneum/programm/klimawandel-in-der-steiermark
STATUS:CONFIRMED
END:VEVENT
END:VCALENDAR
