BEGIN:VCALENDAR
PRODID:-//SIMsKultur.net//iCal Class MIMEDIR//EN
VERSION:2.0
METHOD:PUBLISH
BEGIN:VEVENT
DTSTART:20260608T220000Z
LOCATION;LANGUAGE=de:Marburgerstraße 111, 8435 Wagna
TRANSP:OPAQUE
SEQUENCE:0
UID:bf2e8af53ed98d83bba56dfd3a11c8fa
DTSTAMP:20260424T135800Z
DESCRIPTION;LANGUAGE=de:Imperium auf Achse: Das Reisen im Römischen Reich war im Vergleich zu früheren Epochen eine revolutionäre Erfahrung. Dank eines gut ausgebauten Straßennetzes, das sich über alle Provinzen erstreckte, konnten Menschen effizienter und sicherer als je zuvor weite Strecken zurücklegen. Die Infrastruktur, die das Imperium Romanum schuf, diente als Grundlage für den Handel innerhalb der riesigen Gebiete, die es umfasste.

Römermuseum, Flavia Solva, Universalmuseum Joanneum
Marburgerstraße 111, 8435 Wagna
i: https://www.museum-joanneum.at/flavia-solva
t: +43 3452 71778 
e: archaeologie@museum-joanneum.at

Ein Service von Kultur.net. http://www.simskultur.net
SUMMARY;LANGUAGE=de:Imperium auf Achse
PRIORITY:5
CLASS:PUBLIC
URL:https://kultur.net/roemermuseum-flavia-solva-universalmuseum-joanneum/programm/imperium-auf-achse
STATUS:CONFIRMED
END:VEVENT
END:VCALENDAR
