BEGIN:VCALENDAR
PRODID:-//SIMsKultur.net//iCal Class MIMEDIR//EN
VERSION:2.0
METHOD:PUBLISH
BEGIN:VEVENT
DTSTART:20260730T220000Z
LOCATION;LANGUAGE=de:Joanneumsviertel, 8010 Graz
TRANSP:OPAQUE
SEQUENCE:0
UID:e22063f79170340b47bea0b2323372cc
DTSTAMP:20260425T115000Z
DESCRIPTION;LANGUAGE=de:FLiP im CoSA: Kann Finanzbildung spannend sein? Ja, unbedingt! Das FLiP im CoSA richtet sich mit seinen interaktiven Zugängen in erster Linie an die Zielgruppe der Jugendlichen ab 12 Jahren. Allerdings betreffen Geld und der verantwortungsvolle Umgang damit jede*n von uns, ganz egal welchen Alters.

CoSA - Center of Science Activities
Joanneumsviertel, 8010 Graz
i: https://www.museum-joanneum.at/cosa-graz
t: +43 316 8017-9100 
e: info@cosagraz.at

Ein Service von Kultur.net. http://www.simskultur.net
SUMMARY;LANGUAGE=de:FLiP im CoSA
PRIORITY:5
CLASS:PUBLIC
URL:https://kultur.net/cosa-center-of-science-activities/programm/flip-im-cosa
STATUS:CONFIRMED
END:VEVENT
END:VCALENDAR
