BEGIN:VCALENDAR
PRODID:-//SIMsKultur.net//iCal Class MIMEDIR//EN
VERSION:2.0
METHOD:PUBLISH
BEGIN:VEVENT
DTSTART:20270219T230000Z
LOCATION;LANGUAGE=de:Joanneumsviertel, 8010 Graz
TRANSP:OPAQUE
SEQUENCE:0
UID:a14cbede9711166fbed77993e162447e
DTSTAMP:20260422T152500Z
DESCRIPTION;LANGUAGE=de:Selection - Highlights aus der Sammlung: Die ca. 70.000 Werke umfassende Sammlung der Neuen Galerie Graz wurde in den letzten Jahren thematisch unterschiedlich gezeigt. Dies geschah zuletzt ab Frühjahr 2024 unter dem Titel Show. Highlights aus der Sammlung. Nicht zuletzt auf intensiven Wunsch des Publikums soll es im Museum „Highlights“ zu sehen geben, die zugleich auch einen Sammlungsüberblick zu geben imstande sind.

Neue Galerie Graz, Universalmuseum Joanneum
Joanneumsviertel, 8010 Graz
i: https://www.museum-joanneum.at/neue-galerie-graz
t: +43 316 8017-9100
e: joanneumsviertel@museum-joanneum.at

Ein Service von Kultur.net. http://www.simskultur.net
SUMMARY;LANGUAGE=de:Selection - Highlights aus der Sammlung
PRIORITY:5
CLASS:PUBLIC
URL:https://kultur.net/neue-galerie-graz-universalmuseum-joanneum/programm/selection-highlights-aus-der-sammlung
STATUS:CONFIRMED
END:VEVENT
END:VCALENDAR
