BEGIN:VCALENDAR
PRODID:-//SIMsKultur.net//iCal Class MIMEDIR//EN
VERSION:2.0
METHOD:PUBLISH
BEGIN:VEVENT
DTSTART:20261105T230000Z
LOCATION;LANGUAGE=de:Sackstraße 16, 8010 Graz
TRANSP:OPAQUE
SEQUENCE:0
UID:792ab00dda4ae47647dd0d20c1bab3a4
DTSTAMP:20260425T151000Z
DESCRIPTION;LANGUAGE=de:Aufbruch! - Kärnten & Steiermark: Am 14. Dezember 2025 geht die Koralmbahn in Betrieb. Aus diesem Anlass zeigt das Grazer Museum für Geschichte und das KÄRNTEN.MUSEUM eine gemeinsame kulturhistorische Ausstellung zur besonderen Beziehung der beiden Bundesländer Kärnten und Steiermark

Museum für Geschichte
Sackstraße 16, 8010 Graz
i: https://www.museum-joanneum.at/museum-fuer-geschichte
t: +43-316/8017-9800
e: geschichte@museum-joanneum.at

Ein Service von Kultur.net. http://www.simskultur.net
SUMMARY;LANGUAGE=de:Aufbruch! - Kärnten & Steiermark
PRIORITY:5
CLASS:PUBLIC
URL:https://kultur.net/museum-fuer-geschichte/programm/aufbruch-kaernten-steiermark
STATUS:CONFIRMED
END:VEVENT
END:VCALENDAR
