BEGIN:VCALENDAR
PRODID:-//SIMsKultur.net//iCal Class MIMEDIR//EN
VERSION:2.0
METHOD:PUBLISH
BEGIN:VEVENT
DTSTART:20260903T220000Z
LOCATION;LANGUAGE=de:Sackstraße 16, 8010 Graz
TRANSP:OPAQUE
SEQUENCE:0
UID:6e5bdb5d2d5389e5320235a53a7008df
DTSTAMP:20260424T105200Z
DESCRIPTION;LANGUAGE=de:Aufbruch! - Kärnten & Steiermark: Am 14. Dezember 2025 geht die Koralmbahn in Betrieb. Aus diesem Anlass zeigt das Grazer Museum für Geschichte und das KÄRNTEN.MUSEUM eine gemeinsame kulturhistorische Ausstellung zur besonderen Beziehung der beiden Bundesländer Kärnten und Steiermark

Museum für Geschichte
Sackstraße 16, 8010 Graz
i: https://www.museum-joanneum.at/museum-fuer-geschichte
t: +43-316/8017-9800
e: geschichte@museum-joanneum.at

Ein Service von Kultur.net. http://www.simskultur.net
SUMMARY;LANGUAGE=de:Aufbruch! - Kärnten & Steiermark
PRIORITY:5
CLASS:PUBLIC
URL:https://kultur.net/museum-fuer-geschichte/programm/aufbruch-kaernten-steiermark
STATUS:CONFIRMED
END:VEVENT
END:VCALENDAR
