BEGIN:VCALENDAR
PRODID:-//SIMsKultur.net//iCal Class MIMEDIR//EN
VERSION:2.0
METHOD:PUBLISH
BEGIN:VEVENT
DTSTART:20260805T220000Z
LOCATION;LANGUAGE=de:Mariahilfer Straße 212, 1140 Wien
TRANSP:OPAQUE
SEQUENCE:0
UID:f9baaa28c4e0455c88f267fcb312363b
DTSTAMP:20260421T123700Z
DESCRIPTION;LANGUAGE=de:More Than Recycling - Die Ausstellung zur Kreislaufwirtschaft: Wann und warum trennen wir uns von Dingen? Und was passiert mit ihnen, wenn wir ihnen keinen Wert mehr beimessen? Die Sonderausstellung rückt Wiederverwendbarkeit und innovative technologische Lösungen in den Fokus – und regt dazu an, unser Konsum-, Nutzungs- und Wegwerfverhalten neu zu überdenken.

Technisches Museum Wien
Mariahilfer Straße 212, 1140 Wien
i: https://www.technischesmuseum.at/
t: +43 1 89998-0
e: museumsbox@tmw.at

Ein Service von Kultur.net. http://www.simskultur.net
SUMMARY;LANGUAGE=de:More Than Recycling - Die Ausstellung zur Kreislaufwirtschaft
PRIORITY:5
CLASS:PUBLIC
URL:https://kultur.net/technisches-museum-wien/programm/more-than-recycling-die-ausstellung-zur-kreislaufwirtschaft
STATUS:CONFIRMED
END:VEVENT
END:VCALENDAR
